BEGIN:VCALENDAR
VERSION:2.0
PRODID:-//hacksw/handcal//NONSGML v1.0//EN
BEGIN:VEVENT
SUMMARY:J9 - D3 - SXBC 3 / EBRSG 4
UID:6c587d0e-70ae-40b1-8f5c-e56f19964427
DTSTART:20260428T183000Z
DTEND:20260428T203000Z
LOCATION:Localisation   
CATEGORIES:Entrainement
STATUS:
URL;VALUE=URI:https://sxbc.sportsregions.fr/evenements/2026/04/28/j9-d3-sxbc-3-ebrsg-4-2344942
END:VEVENT
END:VCALENDAR
